BEGIN:VCALENDAR
VERSION:2.0
PRODID:-//Foundation for Developing Compassion and Wisdom - ECPv6.15.20//NONSGML v1.0//EN
CALSCALE:GREGORIAN
METHOD:PUBLISH
X-WR-CALNAME:Foundation for Developing Compassion and Wisdom
X-ORIGINAL-URL:https://compassionandwisdom.org
X-WR-CALDESC:Events for Foundation for Developing Compassion and Wisdom
REFRESH-INTERVAL;VALUE=DURATION:PT1H
X-Robots-Tag:noindex
X-PUBLISHED-TTL:PT1H
BEGIN:VTIMEZONE
TZID:Europe/Paris
BEGIN:DAYLIGHT
TZOFFSETFROM:+0100
TZOFFSETTO:+0200
TZNAME:CEST
DTSTART:20250330T010000
END:DAYLIGHT
BEGIN:STANDARD
TZOFFSETFROM:+0200
TZOFFSETTO:+0100
TZNAME:CET
DTSTART:20251026T010000
END:STANDARD
BEGIN:DAYLIGHT
TZOFFSETFROM:+0100
TZOFFSETTO:+0200
TZNAME:CEST
DTSTART:20260329T010000
END:DAYLIGHT
BEGIN:STANDARD
TZOFFSETFROM:+0200
TZOFFSETTO:+0100
TZNAME:CET
DTSTART:20261025T010000
END:STANDARD
BEGIN:DAYLIGHT
TZOFFSETFROM:+0100
TZOFFSETTO:+0200
TZNAME:CEST
DTSTART:20270328T010000
END:DAYLIGHT
BEGIN:STANDARD
TZOFFSETFROM:+0200
TZOFFSETTO:+0100
TZNAME:CET
DTSTART:20271031T010000
END:STANDARD
END:VTIMEZONE
BEGIN:VEVENT
DTSTART;TZID=Europe/Paris:20260426T180000
DTEND;TZID=Europe/Paris:20260426T191500
DTSTAMP:20260426T010637
CREATED:20260413T095548Z
LAST-MODIFIED:20260413T095548Z
UID:10001369-1777226400-1777230900@compassionandwisdom.org
SUMMARY:FREE-Monthly Meet-up Transformative Mindfulness with Hilary McMichael
DESCRIPTION:About this session:\nA freely offered online event\, with a settling meditation and a complete practice from the program TMM. All you need is a few colored pencils and some paper. Group sharing is optional. \nHilary has been sharing the TMM (Transformative Mindfulness Methods) for several years\, in public and online. Her joyful and yet quiet approach makes these sessions of inner work very “doable” by all. \nThis session of 75 minutes includes : \n\na settling meditation\na guided practice of TMM\nsharing and Q/A time\n\nCome as you are\, with the camera on or off\, talkative or silent\, you are welcome. \nMore information:\n\n\nThis session is offered online on Sunday 26th April\, from 6pm to 7:15 pm – CET \nContact email: hilary.educationuniverselle@gmail.com \nHow to Join\nJoin on Zoom here \nFacilitator: Hilary McMichael\nBorn English but Mediterranean at heart\, I have been involved in Universal Education programs since 2009\, first as a translator for teachers from Anglo-Saxon countries\, then as a trainer. I now facilitate the 16 Attitudes and Transformative Mindfulness Methods\, as well as a program on compassion. \nI am also a qualified trainer to teach Jon Kabat-Zinn’s MBSR (Mindfulness-Based Stress Reduction) cycle. I really enjoy teaching and sharing these practices with groups and in individual sessions. Mindfulness of our body\, our breathing\, and our mind allows us to be better physically and mentally. These programs give us practical tools to transform ourselves.\nMy first passion for painting and drawing (I graduated from the École Nationale des Beaux-Arts in Montpellier) has become a means of expression that brings together my creativity and my spiritual life. \nAs a gardener and hiker\, my philosophy of life leads me towards a happy and joyful simplicity\, based on the values of companionship\, peace\, and trust.
URL:https://compassionandwisdom.org/event/free-monthly-meet-up-transformative-mindfulness-with-hilary-mcmichael/
LOCATION:Online
CATEGORIES:Workshops
ATTACH;FMTTYPE=image/jpeg:https://compassionandwisdom.org/wp-content/uploads/2025/03/Reconnecting-with-Authentic-Contentment.jpeg
END:VEVENT
END:VCALENDAR