BEGIN:VCALENDAR
VERSION:2.0
PRODID:-//Foundation for Developing Compassion and Wisdom - ECPv6.15.20//NONSGML v1.0//EN
CALSCALE:GREGORIAN
METHOD:PUBLISH
X-WR-CALNAME:Foundation for Developing Compassion and Wisdom
X-ORIGINAL-URL:https://compassionandwisdom.org
X-WR-CALDESC:Events for Foundation for Developing Compassion and Wisdom
REFRESH-INTERVAL;VALUE=DURATION:PT1H
X-Robots-Tag:noindex
X-PUBLISHED-TTL:PT1H
BEGIN:VTIMEZONE
TZID:Europe/Madrid
BEGIN:DAYLIGHT
TZOFFSETFROM:+0100
TZOFFSETTO:+0200
TZNAME:CEST
DTSTART:20250330T010000
END:DAYLIGHT
BEGIN:STANDARD
TZOFFSETFROM:+0200
TZOFFSETTO:+0100
TZNAME:CET
DTSTART:20251026T010000
END:STANDARD
BEGIN:DAYLIGHT
TZOFFSETFROM:+0100
TZOFFSETTO:+0200
TZNAME:CEST
DTSTART:20260329T010000
END:DAYLIGHT
BEGIN:STANDARD
TZOFFSETFROM:+0200
TZOFFSETTO:+0100
TZNAME:CET
DTSTART:20261025T010000
END:STANDARD
BEGIN:DAYLIGHT
TZOFFSETFROM:+0100
TZOFFSETTO:+0200
TZNAME:CEST
DTSTART:20270328T010000
END:DAYLIGHT
BEGIN:STANDARD
TZOFFSETFROM:+0200
TZOFFSETTO:+0100
TZNAME:CET
DTSTART:20271031T010000
END:STANDARD
END:VTIMEZONE
BEGIN:VTIMEZONE
TZID:Europe/London
BEGIN:DAYLIGHT
TZOFFSETFROM:+0000
TZOFFSETTO:+0100
TZNAME:BST
DTSTART:20250330T010000
END:DAYLIGHT
BEGIN:STANDARD
TZOFFSETFROM:+0100
TZOFFSETTO:+0000
TZNAME:GMT
DTSTART:20251026T010000
END:STANDARD
BEGIN:DAYLIGHT
TZOFFSETFROM:+0000
TZOFFSETTO:+0100
TZNAME:BST
DTSTART:20260329T010000
END:DAYLIGHT
BEGIN:STANDARD
TZOFFSETFROM:+0100
TZOFFSETTO:+0000
TZNAME:GMT
DTSTART:20261025T010000
END:STANDARD
BEGIN:DAYLIGHT
TZOFFSETFROM:+0000
TZOFFSETTO:+0100
TZNAME:BST
DTSTART:20270328T010000
END:DAYLIGHT
BEGIN:STANDARD
TZOFFSETFROM:+0100
TZOFFSETTO:+0000
TZNAME:GMT
DTSTART:20271031T010000
END:STANDARD
END:VTIMEZONE
BEGIN:VEVENT
DTSTART;TZID=Europe/Madrid:20260430T170000
DTEND;TZID=Europe/Madrid:20260503T140000
DTSTAMP:20260425T225009
CREATED:20260226T174233Z
LAST-MODIFIED:20260303T095731Z
UID:10001317-1777568400-1777816800@compassionandwisdom.org
SUMMARY:The Invisible Thread that support Us: a Radical exploration of conscious Living and Dying - a Residential retreat with Bruno Rizzi
DESCRIPTION:Life and death are not separate—they are deeply intertwined. What nourishes one inevitably supports the other. \nAbout the retreat\n\n\n\nA retreat to explore and strengthen the inner dimension that characterizes us as human beings\, recognizing that life and death are deeply connected. We will learn to recognize this fundamental dimension\, to cultivate it and integrate it as a source of serenity\, clarity\, and acceptance\, both in life and at its end. \nIt is designed using the approach and methodology of Universal Education\, integrating diverse spiritual perspectives with experiences from palliative care\, psychology\, and science. \nDuring the retreat\, we will maintain silence outside of the sessions\, and we recommend disconnecting from social media to fully immerse ourselves in this experience of calm\, reflection\, and inner discovery. \nWhy this Retreat?\nExperience shows us time and again that\, especially when death approaches\, we need to be aware of our values\, of what gives us meaning and offers us true support. This also happens in everyday life when we face significant challenges\, showing us how these two dimensions\, life and death\, have much in common. \nThese are aspects of the spiritual dimension within us\, since we are not only physical\, emotional\, and psychic entities\, but we are also part of a much broader and often mysterious context. \nThe purpose of this retreat is to explore\, recognize\, and learn to trust this fundamental dimension that characterizes us as human beings and that we often unconsciously long for. It is about appreciating that we need it and being able to cultivate and integrate it as an important basis for a fuller\, more conscious\, and peaceful life\, as well as for an end of life filled with confidence and security. \nWho Should Attend?\nThis retreat is open to anyone interested in exploring the themes of life\, death\, and impermanence—whether for personal growth\, spiritual development\, or professional practice in caregiving roles. \nLanguage\nThe sessions will be offered in English with Spanish translation. \n\nBookings\nThis is a residential retreat and the price includes accommodation\, all meals ( vegetarian) and the teachings. Spaces are limited to ensure a safe and intimate group setting. \n➡️ For more information and to reserve your spot\, please visit the Nagarjuna Alicante website\nWe encourage early booking to secure your place in this meaningful exploration. \nJoin us on this journey of deep reflection and transformation. Together\, we will explore how to live—and die—with greater awareness\, compassion\, and peace. \n“Death in itself is not fearful\, it is our mind that makes it terrifying”\n-Lama Zopa Rinpoche- \n\n\n\n\n\n\n\n\n\n\n\n\n\n\n\n\nFacilitator- Bruno Rizzi-\nBruno has been practicing Buddhism since 1980\, when he met Ven. Lama Thubten Yeshe and Lama Zopa Rinpoche in Italy. He lived as an ordained monk for seven years\, studying at Nalanda Monastery in France\, as well as in India and Nepal. \nFor the past 22 years\, he has worked as a palliative care nurse at Christophorus Hospiz in Munich\, Germany. For the last 15 years\, he has been leading workshops and retreats on the topic “Confronting Death\, Finding Meaning in Life.” \nHe is an accredited 16 Guidelines facilitator and collaborates with Universal Education – FDCW (Foundation for the Development of Compassion and Wisdom).
URL:https://compassionandwisdom.org/event/a-radical-exploration-of-conscious-living-and-dying/
LOCATION:Nagarjuna Alicante\, Calle Ruperto Chapí\, 9\, El Campello\, Alicante\, Spain
CATEGORIES:Retreats
ATTACH;FMTTYPE=image/jpeg:https://compassionandwisdom.org/wp-content/uploads/2026/02/meditating-woman-reflects-beauty-nature-generated-by-ai-1.jpg
END:VEVENT
BEGIN:VEVENT
DTSTART;TZID=Europe/London:20260503T180000
DTEND;TZID=Europe/London:20260503T193000
DTSTAMP:20260425T225009
CREATED:20260325T174859Z
LAST-MODIFIED:20260325T174859Z
UID:10001360-1777831200-1777836600@compassionandwisdom.org
SUMMARY:Empathy Circles with Conversations that Matter: Gaining Clarity and Mutual Understanding
DESCRIPTION:Empathy Circles with Conversations That Matter \nFree online sessions led by FDCW facilitator Janna Weiss and Maria Trottman open to everybody! \nA new series of 5 sessions based on the 16 Guidelines resource: Conversations That Matter \nConversations That Matter offers a new way of bringing inspiration for wise and compassionate action based on the 16 Guidelines for Life. \nSessions Schedule:\n5 Sundays from May 3 to May 31 – You can join any session! \n1:00 pm – 2:30 pm ET / 6:00 pm – 7:30 pm GMT / 10:00 am – 11:30 am PT\, please check\nyour time zone here. \nThe 5 sessions will explore the Wisdom Theme: How We Find Meaning \n\nMay 3 Wisdom Theme: How We Find Meaning\nMay 10 Aspiration\nMay 17 Principles\nMay 24 Service\nMay 31 Courage\n\nPlease come on time and plan on staying for the full 90 minutes. \nSharing our experiences and practicing together can strengthen clarity\, presence\, and mutual understanding. Drop-ins welcome! \nIf you join\, please come on time and plan on staying for the full 90 minutes. \nJoin Zoom Here  \nWho are these sessions for?\nThese Online Empathy Circles are for people of all ages\, backgrounds and ideas\, who are looking for practical tools to create positive transformation in their homes\, individual lives\, relationships\, community\, or workplace \nAbout the Empathy Circles\nThe Empathy Circle practice is the most effective gateway practice for learning\, practicing and deepening listening and empathy skills\, as well as\, nurturing an empathic way of being. \nThe Empathy Circle provides a clearly structured dialogue process that supports respectful dialogue\, and equal participation. Participants take turns listening without giving advice\, interrupting\, or debating\, and each speaker feels fully heard and understood. \nThe practice is practical and applicable to everyday conversations\, and when navigating difficult conversations. The Empathy Circle practice not only hones empathy but also fosters a range of valuable skills\, such as communication and conflict management skills\, making it a powerful tool for personal growth\, conflict resolutions and meaningful dialogue. \nThe Empathy Circle was developed by Edwin Rutsch\, founder and director of The Empathy Center\, based on the work of psychologist Carl Rogers. The four core values of the Empathy Circle are empathy\, mutuality\, openness and caring \nIf you want to know more about the Empathy Circles\, please check  the June 2023 Summit\, and Empathy Circles with CTM/16G at the Nov 2024 Empathy Summit\, as well as other circles that Janna and others have led. \nWatch: How To Take Part in a Basic Empathy Circle ~ 9 minutes \nPosted here with transcript\, and here on Janna’s YouTube \nAbout the facilitators:\nJanna is an acupuncturist and herbalist\, and teaches mind science in New York City. She holds a PhD from the University of Texas at Austin in Biological Sciences—Botany (ethnobotany). Janna is also a human rights activist\, for peace\, for Tibet\, for the rights of people with psychosocial disabilities\, and for the real rights of children and families. Janna began studying Tibetan Buddhism in 2005. She is a trained 16 Guidelines Level 1 & 2 and Unlocking Your Potential Facilitator\, and an Empathy Circle Facilitator and Trainer. \nMaria is an Empathy Circle Facilitator and a student of the 16 Guidelines. She is passionate about Empathy Circles and the way this simple dialogue structure\, grounded in active listening\, can foster connection\, clarity\, and mutuality. Maria holds a PhD in Economics and works as a data analyst in the health sector. \nSupporting Janna and the Empathy Circles: please\, consider supporting Janna so that she can continue to offer these transformative sessions by making a donation scanning the QR code below or by making a donation on the dedicated page  https://tinyurl.com/nhcxcrcw \nJoin Zoom Here
URL:https://compassionandwisdom.org/event/empathy-circles-with-conversations-that-matter-gaining-clarity-and-mutual-understanding-2/2026-05-03/
LOCATION:Online
CATEGORIES:16 Guidelines
ATTACH;FMTTYPE=image/jpeg:https://compassionandwisdom.org/wp-content/uploads/2026/01/group-multiethnic-creative-business-people-working-project-having-brainstorming-meeting-team-work-brainstorming-concept-1-1-e1767875264320.jpg
ORGANIZER;CN="Janna Weiss":MAILTO:thangkha123@gmail.com
END:VEVENT
END:VCALENDAR