BEGIN:VCALENDAR
VERSION:2.0
PRODID:-//Foundation for Developing Compassion and Wisdom - ECPv6.15.20//NONSGML v1.0//EN
CALSCALE:GREGORIAN
METHOD:PUBLISH
X-WR-CALNAME:Foundation for Developing Compassion and Wisdom
X-ORIGINAL-URL:https://compassionandwisdom.org
X-WR-CALDESC:Events for Foundation for Developing Compassion and Wisdom
REFRESH-INTERVAL;VALUE=DURATION:PT1H
X-Robots-Tag:noindex
X-PUBLISHED-TTL:PT1H
BEGIN:VTIMEZONE
TZID:Australia/Brisbane
BEGIN:STANDARD
TZOFFSETFROM:+1000
TZOFFSETTO:+1000
TZNAME:AEST
DTSTART:20250101T000000
END:STANDARD
END:VTIMEZONE
BEGIN:VTIMEZONE
TZID:Europe/Madrid
BEGIN:DAYLIGHT
TZOFFSETFROM:+0100
TZOFFSETTO:+0200
TZNAME:CEST
DTSTART:20250330T010000
END:DAYLIGHT
BEGIN:STANDARD
TZOFFSETFROM:+0200
TZOFFSETTO:+0100
TZNAME:CET
DTSTART:20251026T010000
END:STANDARD
BEGIN:DAYLIGHT
TZOFFSETFROM:+0100
TZOFFSETTO:+0200
TZNAME:CEST
DTSTART:20260329T010000
END:DAYLIGHT
BEGIN:STANDARD
TZOFFSETFROM:+0200
TZOFFSETTO:+0100
TZNAME:CET
DTSTART:20261025T010000
END:STANDARD
BEGIN:DAYLIGHT
TZOFFSETFROM:+0100
TZOFFSETTO:+0200
TZNAME:CEST
DTSTART:20270328T010000
END:DAYLIGHT
BEGIN:STANDARD
TZOFFSETFROM:+0200
TZOFFSETTO:+0100
TZNAME:CET
DTSTART:20271031T010000
END:STANDARD
END:VTIMEZONE
BEGIN:VEVENT
DTSTART;TZID=Australia/Brisbane:20260627T090000
DTEND;TZID=Australia/Brisbane:20260627T160000
DTSTAMP:20260423T222806
CREATED:20260204T152740Z
LAST-MODIFIED:20260204T152740Z
UID:10001254-1782550800-1782576000@compassionandwisdom.org
SUMMARY:A Mindful Heart Course in 4 Modules | at Chenrezig Institute (Australia)
DESCRIPTION:Feeling better starts with living better! \nAbout the Event\n\n\n\nA Mindful Heart is a new course developed by FDCW as part of Universal Education. It is designed to support participants in developing a deeper understanding of how the mind works and how this understanding can transform the way we relate to ourselves and others. \nThe course gently guides participants in recognising and gradually letting go of destructive patterns of thought and behaviour\, while cultivating a healthy sense of self-confidence and a deep\, compassionate connection with others. Through guided reflection\, participants are invited to explore their attitudes\, perceptions\, and emotional patterns\, gaining insight into how inner experiences shape outer realities. \nBy examining the workings of our own minds and the nature of our interdependence with others and the world around us\, we begin to see how deeply interconnected we truly are. The course draws on both logical and scientific perspectives to explore the nature of the self and our relationships\, offering a balanced and accessible approach to inner inquiry. \nUltimately\, the personal transformation fostered through this course contributes to the creation of more compassionate cultures. How can one person influence a whole culture? The answer lies in understanding interdependence. Every action\, choice\, interaction\, and intention affects others and the broader environment. This principle of cause and effect lies at the heart of all life\, reminding us that individual transformation naturally ripples outward in meaningful ways. \nStructure\nThe course consists of 12 modules\, explored over three separate days\, with four modules each day. Each module builds on the previous one\, and each day builds upon the last. The time between sessions allows space for reflection and practice\, supporting participants to pause\, notice their inner experiences\, and reconnect with the heart of compassion and wisdom. \nThere will be plenty of opportunities for questions and discussion\, supporting the integration of insights and offering practical ways to live with greater mindfulness\, clarity\, and wisdom. \nSchedule\n\n28 March -Course day 1 : Modules 1-4\n25th April– Course day 2:  Modules 5-8\n27th June– Course day 3: Modules 9-12\n\nThis retreat will be held in the Gompa\, available to attend in person and online. \nWho Should Attend?\nThis retreat series welcomes participants of all ages and backgrounds who are seeking practical tools for meaningful change in their life\, home\, relationships\, community or workplace. It will be of particular interest to: Change-makers and anyone working in education\, healthcare\, or helping fields; Yoga\, mindfulness\, and embodiment teachers; Coaches\, mentors\, and those working in corporate or organisational well-being. \n\nBookings\nThe suggested donation for each day of the course is $75. However – you are welcome to offer whatever amount you feel comfortable with. \nSliding scale: $35-$75. \nSangha are always able to attend our courses free of charge\, please contact spc@chenrezig.com.au for discount code to register. \nFor more information and bookings\, please visit the Chenrezig Institute page \nFacilitator\n\n\n\n\n\nVen. Tsultrim was ordained in 2009 at Chenrezig Institute in Australia. She has spent much of the last several years in India and Nepal doing retreat\, listening to different teachers from the Tibetan Buddhist lineages and visiting many pilgrimage sites. She is currently living at Chenrezig Institute and continue working at Karuna Hospice Service in Brisbane as a counsellor and the Spiritual Program Coordinator. She has worked for many years in suicide prevention and intervention.\nShe has a very strong conviction that most of us can find contentment in our lives irrespective of our external circumstances through understanding and training our minds\, particularly through using mindfulness. She has a Bachelor of Counselling\, a Bachelor of Social Science (Social Policy)\, and Master of International Studies (Peace and Conflict Resolution).
URL:https://compassionandwisdom.org/event/a-mindful-heart-course-in-4-modules-retreat-at-chenrezig-institute-australia-2/2026-06-27/
LOCATION:Chenrezig Institute\, 3 Johnsons Road\, Eudlo\,\, Eudlo\, Queensland\, 4554\, Australia
CATEGORIES:Dialogues,Meditation,Retreats
ATTACH;FMTTYPE=image/jpeg:https://compassionandwisdom.org/wp-content/uploads/2026/02/love-romance-perforated-paper-heart-1.jpg
END:VEVENT
BEGIN:VEVENT
DTSTART;TZID=Europe/Madrid:20260629T110000
DTEND;TZID=Europe/Madrid:20260629T120000
DTSTAMP:20260423T222806
CREATED:20260423T091042Z
LAST-MODIFIED:20260423T091613Z
UID:10001456-1782730800-1782734400@compassionandwisdom.org
SUMMARY:Presencial - Comprende tu Mente-Corazón\, Despierta tu Fuerza
DESCRIPTION:Sobre este curso\nComprende tu Mente-Corazón\, Despierta tu Fuerza es un programa estructurado de 12 semanas diseñado para ayudar a los participantes a comprender la mente\, transformar patrones y vivir con propósito. \nEl curso explora tres vías fundamentales de aprendizaje: Conocimiento\, Fortaleza y Compasión \, guiando a los participantes hacia una vida más feliz y plena. \n\n\n\n\n\n\n\n\n\n\n\nEl curso se imparte en 12 sesiones que exploran los siguientes temas: \nSesión 1: En busca de la felicidadSesión 2: Entendiendo cómo existen las cosasSesión 3: Desarrollando una sana autoconfianzaSesión 4: Compasión: abriendo el corazónSesión 5: Atención plena\, reflexión y pensamiento críticoSesión 6: Intención consciente: ¿Qué quiero realmente?Sesión 7: InterconexiónSesión 8: Aceptando el cambioSesión 9: PercepciónSesión 10: Transformando las emociones dañinasSesión 11: EmpatíaSesión 12: Cultivando la compasión \n\nCada sesion de una hora incluye: \n\nUna practica para calmar la mente y establecer la motivacion\nPresentación del tema y breve intercambio de experiencias \nMeditación guiada sobre el tema de la sesión\nEspacio abierto para el diálogo\nUnos breves momentos para concluir la sesión y ofrecer dedicaciones\n\nDetalles prácticos\nEl curso se ofrece los lunes de 11-12h y 20-21h hasta el 27 de Julio en estos horarios  CEST \nOfrecimiento: 10€/sesión o 40€/mes \n\nLugar\nEste curso esta abierto a tod@s y  se ofrece en el centro Nagarjuna Barcelona. Para mas información por favor visita la web del centro.
URL:https://compassionandwisdom.org/event/presencial-comprende-tu-mente-corazon-despierta-tu-fuerza-2/2026-06-29/
LOCATION:Nagarjuna Barcelona\, C/Pere IV 201 Bajos\, Barcelona\, 08018\, Spain
CATEGORIES:Dialogues,Meditation,Workshops
ATTACH;FMTTYPE=image/jpeg:https://compassionandwisdom.org/wp-content/uploads/2026/01/women-s-day-celebration-with-flower-2-1.jpg
END:VEVENT
BEGIN:VEVENT
DTSTART;TZID=Europe/Madrid:20260706T110000
DTEND;TZID=Europe/Madrid:20260706T120000
DTSTAMP:20260423T222806
CREATED:20260423T091042Z
LAST-MODIFIED:20260423T091613Z
UID:10001457-1783335600-1783339200@compassionandwisdom.org
SUMMARY:Presencial - Comprende tu Mente-Corazón\, Despierta tu Fuerza
DESCRIPTION:Sobre este curso\nComprende tu Mente-Corazón\, Despierta tu Fuerza es un programa estructurado de 12 semanas diseñado para ayudar a los participantes a comprender la mente\, transformar patrones y vivir con propósito. \nEl curso explora tres vías fundamentales de aprendizaje: Conocimiento\, Fortaleza y Compasión \, guiando a los participantes hacia una vida más feliz y plena. \n\n\n\n\n\n\n\n\n\n\n\nEl curso se imparte en 12 sesiones que exploran los siguientes temas: \nSesión 1: En busca de la felicidadSesión 2: Entendiendo cómo existen las cosasSesión 3: Desarrollando una sana autoconfianzaSesión 4: Compasión: abriendo el corazónSesión 5: Atención plena\, reflexión y pensamiento críticoSesión 6: Intención consciente: ¿Qué quiero realmente?Sesión 7: InterconexiónSesión 8: Aceptando el cambioSesión 9: PercepciónSesión 10: Transformando las emociones dañinasSesión 11: EmpatíaSesión 12: Cultivando la compasión \n\nCada sesion de una hora incluye: \n\nUna practica para calmar la mente y establecer la motivacion\nPresentación del tema y breve intercambio de experiencias \nMeditación guiada sobre el tema de la sesión\nEspacio abierto para el diálogo\nUnos breves momentos para concluir la sesión y ofrecer dedicaciones\n\nDetalles prácticos\nEl curso se ofrece los lunes de 11-12h y 20-21h hasta el 27 de Julio en estos horarios  CEST \nOfrecimiento: 10€/sesión o 40€/mes \n\nLugar\nEste curso esta abierto a tod@s y  se ofrece en el centro Nagarjuna Barcelona. Para mas información por favor visita la web del centro.
URL:https://compassionandwisdom.org/event/presencial-comprende-tu-mente-corazon-despierta-tu-fuerza-2/2026-07-06/
LOCATION:Nagarjuna Barcelona\, C/Pere IV 201 Bajos\, Barcelona\, 08018\, Spain
CATEGORIES:Dialogues,Meditation,Workshops
ATTACH;FMTTYPE=image/jpeg:https://compassionandwisdom.org/wp-content/uploads/2026/01/women-s-day-celebration-with-flower-2-1.jpg
END:VEVENT
BEGIN:VEVENT
DTSTART;TZID=Europe/Madrid:20260713T110000
DTEND;TZID=Europe/Madrid:20260713T120000
DTSTAMP:20260423T222806
CREATED:20260423T091042Z
LAST-MODIFIED:20260423T091613Z
UID:10001458-1783940400-1783944000@compassionandwisdom.org
SUMMARY:Presencial - Comprende tu Mente-Corazón\, Despierta tu Fuerza
DESCRIPTION:Sobre este curso\nComprende tu Mente-Corazón\, Despierta tu Fuerza es un programa estructurado de 12 semanas diseñado para ayudar a los participantes a comprender la mente\, transformar patrones y vivir con propósito. \nEl curso explora tres vías fundamentales de aprendizaje: Conocimiento\, Fortaleza y Compasión \, guiando a los participantes hacia una vida más feliz y plena. \n\n\n\n\n\n\n\n\n\n\n\nEl curso se imparte en 12 sesiones que exploran los siguientes temas: \nSesión 1: En busca de la felicidadSesión 2: Entendiendo cómo existen las cosasSesión 3: Desarrollando una sana autoconfianzaSesión 4: Compasión: abriendo el corazónSesión 5: Atención plena\, reflexión y pensamiento críticoSesión 6: Intención consciente: ¿Qué quiero realmente?Sesión 7: InterconexiónSesión 8: Aceptando el cambioSesión 9: PercepciónSesión 10: Transformando las emociones dañinasSesión 11: EmpatíaSesión 12: Cultivando la compasión \n\nCada sesion de una hora incluye: \n\nUna practica para calmar la mente y establecer la motivacion\nPresentación del tema y breve intercambio de experiencias \nMeditación guiada sobre el tema de la sesión\nEspacio abierto para el diálogo\nUnos breves momentos para concluir la sesión y ofrecer dedicaciones\n\nDetalles prácticos\nEl curso se ofrece los lunes de 11-12h y 20-21h hasta el 27 de Julio en estos horarios  CEST \nOfrecimiento: 10€/sesión o 40€/mes \n\nLugar\nEste curso esta abierto a tod@s y  se ofrece en el centro Nagarjuna Barcelona. Para mas información por favor visita la web del centro.
URL:https://compassionandwisdom.org/event/presencial-comprende-tu-mente-corazon-despierta-tu-fuerza-2/2026-07-13/
LOCATION:Nagarjuna Barcelona\, C/Pere IV 201 Bajos\, Barcelona\, 08018\, Spain
CATEGORIES:Dialogues,Meditation,Workshops
ATTACH;FMTTYPE=image/jpeg:https://compassionandwisdom.org/wp-content/uploads/2026/01/women-s-day-celebration-with-flower-2-1.jpg
END:VEVENT
BEGIN:VEVENT
DTSTART;TZID=Europe/Madrid:20260720T110000
DTEND;TZID=Europe/Madrid:20260720T120000
DTSTAMP:20260423T222806
CREATED:20260423T091042Z
LAST-MODIFIED:20260423T091613Z
UID:10001459-1784545200-1784548800@compassionandwisdom.org
SUMMARY:Presencial - Comprende tu Mente-Corazón\, Despierta tu Fuerza
DESCRIPTION:Sobre este curso\nComprende tu Mente-Corazón\, Despierta tu Fuerza es un programa estructurado de 12 semanas diseñado para ayudar a los participantes a comprender la mente\, transformar patrones y vivir con propósito. \nEl curso explora tres vías fundamentales de aprendizaje: Conocimiento\, Fortaleza y Compasión \, guiando a los participantes hacia una vida más feliz y plena. \n\n\n\n\n\n\n\n\n\n\n\nEl curso se imparte en 12 sesiones que exploran los siguientes temas: \nSesión 1: En busca de la felicidadSesión 2: Entendiendo cómo existen las cosasSesión 3: Desarrollando una sana autoconfianzaSesión 4: Compasión: abriendo el corazónSesión 5: Atención plena\, reflexión y pensamiento críticoSesión 6: Intención consciente: ¿Qué quiero realmente?Sesión 7: InterconexiónSesión 8: Aceptando el cambioSesión 9: PercepciónSesión 10: Transformando las emociones dañinasSesión 11: EmpatíaSesión 12: Cultivando la compasión \n\nCada sesion de una hora incluye: \n\nUna practica para calmar la mente y establecer la motivacion\nPresentación del tema y breve intercambio de experiencias \nMeditación guiada sobre el tema de la sesión\nEspacio abierto para el diálogo\nUnos breves momentos para concluir la sesión y ofrecer dedicaciones\n\nDetalles prácticos\nEl curso se ofrece los lunes de 11-12h y 20-21h hasta el 27 de Julio en estos horarios  CEST \nOfrecimiento: 10€/sesión o 40€/mes \n\nLugar\nEste curso esta abierto a tod@s y  se ofrece en el centro Nagarjuna Barcelona. Para mas información por favor visita la web del centro.
URL:https://compassionandwisdom.org/event/presencial-comprende-tu-mente-corazon-despierta-tu-fuerza-2/2026-07-20/
LOCATION:Nagarjuna Barcelona\, C/Pere IV 201 Bajos\, Barcelona\, 08018\, Spain
CATEGORIES:Dialogues,Meditation,Workshops
ATTACH;FMTTYPE=image/jpeg:https://compassionandwisdom.org/wp-content/uploads/2026/01/women-s-day-celebration-with-flower-2-1.jpg
END:VEVENT
BEGIN:VEVENT
DTSTART;TZID=Europe/Madrid:20260727T110000
DTEND;TZID=Europe/Madrid:20260727T120000
DTSTAMP:20260423T222806
CREATED:20260423T091042Z
LAST-MODIFIED:20260423T091613Z
UID:10001460-1785150000-1785153600@compassionandwisdom.org
SUMMARY:Presencial - Comprende tu Mente-Corazón\, Despierta tu Fuerza
DESCRIPTION:Sobre este curso\nComprende tu Mente-Corazón\, Despierta tu Fuerza es un programa estructurado de 12 semanas diseñado para ayudar a los participantes a comprender la mente\, transformar patrones y vivir con propósito. \nEl curso explora tres vías fundamentales de aprendizaje: Conocimiento\, Fortaleza y Compasión \, guiando a los participantes hacia una vida más feliz y plena. \n\n\n\n\n\n\n\n\n\n\n\nEl curso se imparte en 12 sesiones que exploran los siguientes temas: \nSesión 1: En busca de la felicidadSesión 2: Entendiendo cómo existen las cosasSesión 3: Desarrollando una sana autoconfianzaSesión 4: Compasión: abriendo el corazónSesión 5: Atención plena\, reflexión y pensamiento críticoSesión 6: Intención consciente: ¿Qué quiero realmente?Sesión 7: InterconexiónSesión 8: Aceptando el cambioSesión 9: PercepciónSesión 10: Transformando las emociones dañinasSesión 11: EmpatíaSesión 12: Cultivando la compasión \n\nCada sesion de una hora incluye: \n\nUna practica para calmar la mente y establecer la motivacion\nPresentación del tema y breve intercambio de experiencias \nMeditación guiada sobre el tema de la sesión\nEspacio abierto para el diálogo\nUnos breves momentos para concluir la sesión y ofrecer dedicaciones\n\nDetalles prácticos\nEl curso se ofrece los lunes de 11-12h y 20-21h hasta el 27 de Julio en estos horarios  CEST \nOfrecimiento: 10€/sesión o 40€/mes \n\nLugar\nEste curso esta abierto a tod@s y  se ofrece en el centro Nagarjuna Barcelona. Para mas información por favor visita la web del centro.
URL:https://compassionandwisdom.org/event/presencial-comprende-tu-mente-corazon-despierta-tu-fuerza-2/2026-07-27/
LOCATION:Nagarjuna Barcelona\, C/Pere IV 201 Bajos\, Barcelona\, 08018\, Spain
CATEGORIES:Dialogues,Meditation,Workshops
ATTACH;FMTTYPE=image/jpeg:https://compassionandwisdom.org/wp-content/uploads/2026/01/women-s-day-celebration-with-flower-2-1.jpg
END:VEVENT
END:VCALENDAR