BEGIN:VCALENDAR
VERSION:2.0
PRODID:-//Foundation for Developing Compassion and Wisdom - ECPv6.15.20//NONSGML v1.0//EN
CALSCALE:GREGORIAN
METHOD:PUBLISH
X-ORIGINAL-URL:https://compassionandwisdom.org
X-WR-CALDESC:Events for Foundation for Developing Compassion and Wisdom
REFRESH-INTERVAL;VALUE=DURATION:PT1H
X-Robots-Tag:noindex
X-PUBLISHED-TTL:PT1H
BEGIN:VTIMEZONE
TZID:Europe/Paris
BEGIN:DAYLIGHT
TZOFFSETFROM:+0100
TZOFFSETTO:+0200
TZNAME:CEST
DTSTART:20240331T010000
END:DAYLIGHT
BEGIN:STANDARD
TZOFFSETFROM:+0200
TZOFFSETTO:+0100
TZNAME:CET
DTSTART:20241027T010000
END:STANDARD
BEGIN:DAYLIGHT
TZOFFSETFROM:+0100
TZOFFSETTO:+0200
TZNAME:CEST
DTSTART:20250330T010000
END:DAYLIGHT
BEGIN:STANDARD
TZOFFSETFROM:+0200
TZOFFSETTO:+0100
TZNAME:CET
DTSTART:20251026T010000
END:STANDARD
BEGIN:DAYLIGHT
TZOFFSETFROM:+0100
TZOFFSETTO:+0200
TZNAME:CEST
DTSTART:20260329T010000
END:DAYLIGHT
BEGIN:STANDARD
TZOFFSETFROM:+0200
TZOFFSETTO:+0100
TZNAME:CET
DTSTART:20261025T010000
END:STANDARD
END:VTIMEZONE
BEGIN:VEVENT
DTSTART;TZID=Europe/Paris:20250712T093000
DTEND;TZID=Europe/Paris:20250713T173000
DTSTAMP:20260421T115456
CREATED:20250331T135531Z
LAST-MODIFIED:20250331T155249Z
UID:10000462-1752312600-1752427800@compassionandwisdom.org
SUMMARY:1.2.3 Bonheur – Atelier Pleine Conscience Parents-Enfants | en français
DESCRIPTION:1.2.3 Bonheur – Atelier Pleine Conscience Parents-Enfants : Cultiver le Lien et la Joie  \nAperçu de l’atelier :\nCet atelier de deux jours offre aux familles un moment précieux de partage et d’échange\, permettant à chacun – enfants comme adultes – de se connecter à soi-même et aux autres dans une ambiance conviviale et bienveillante.   \nÀ travers des activités variées telles que le yoga\, la pleine conscience\, la relaxation et les arts plastiques inspirés par la nature\, chaque membre de la famille éveille son empathie et compassion.  \nObjectifs de l’atelier: Cultiver le Bonheur Ensemble \n\nApprendre à écouter ses besoins et à s’exprimer avec clarté et bienveillance.  \nDévelopper l’empathie\, la compassion et la gentillesse\, pour soi et pour les autres.  \nExplorer des outils pour travailler avec ses émotions et cultiver une présence paisible et joyeuse au quotidien.  \nRéfléchir ensemble à ce que chacun souhaite pour sa famille et ses relations.  \n\nUn Pas Vers une Vie en Paix \nCet atelier est une invitation à cultiver intention\, interconnexion et joie dans vos relations familiales\, tout en apprenant à vivre avec présence\, gentillesse et authenticité. Rejoignez-nous pour ce moment unique de transformation et de croissance commune.   \nPlus d’infos:\n\n\n\nDates: 12-13 juillet 2025\nLieu: Institut Vajra Yogini\, 81500 Marzens\nLes activités seront réparties dans la journée de 9h30 à 21h00 le samedi et 9h30 à 17h30 le dimanche.\nTarif pour les 2 jours: 60€ par adulte et 40€ par enfant hors hébergement.\nTous les enfants restent sous la responsabilité des parents.\nRenseignements et inscription: education.universelle.france@gmail.com
URL:https://compassionandwisdom.org/event/1-2-3-bonheur-atelier-pleine-conscience-parents-enfants-en-francais/
LOCATION:Vajra Yogini\, les clauzades\, Marzens\, tarn\, 81500\, France
CATEGORIES:16 Guidelines,Workshops
ATTACH;FMTTYPE=image/jpeg:https://compassionandwisdom.org/wp-content/uploads/2024/02/4.-Delight.jpeg
END:VEVENT
END:VCALENDAR