BEGIN:VCALENDAR
VERSION:2.0
PRODID:-//Foundation for Developing Compassion and Wisdom - ECPv6.15.20//NONSGML v1.0//EN
CALSCALE:GREGORIAN
METHOD:PUBLISH
X-WR-CALNAME:Foundation for Developing Compassion and Wisdom
X-ORIGINAL-URL:https://compassionandwisdom.org
X-WR-CALDESC:Events for Foundation for Developing Compassion and Wisdom
REFRESH-INTERVAL;VALUE=DURATION:PT1H
X-Robots-Tag:noindex
X-PUBLISHED-TTL:PT1H
BEGIN:VTIMEZONE
TZID:Europe/Madrid
BEGIN:DAYLIGHT
TZOFFSETFROM:+0100
TZOFFSETTO:+0200
TZNAME:CEST
DTSTART:20250330T010000
END:DAYLIGHT
BEGIN:STANDARD
TZOFFSETFROM:+0200
TZOFFSETTO:+0100
TZNAME:CET
DTSTART:20251026T010000
END:STANDARD
BEGIN:DAYLIGHT
TZOFFSETFROM:+0100
TZOFFSETTO:+0200
TZNAME:CEST
DTSTART:20260329T010000
END:DAYLIGHT
BEGIN:STANDARD
TZOFFSETFROM:+0200
TZOFFSETTO:+0100
TZNAME:CET
DTSTART:20261025T010000
END:STANDARD
BEGIN:DAYLIGHT
TZOFFSETFROM:+0100
TZOFFSETTO:+0200
TZNAME:CEST
DTSTART:20270328T010000
END:DAYLIGHT
BEGIN:STANDARD
TZOFFSETFROM:+0200
TZOFFSETTO:+0100
TZNAME:CET
DTSTART:20271031T010000
END:STANDARD
END:VTIMEZONE
BEGIN:VEVENT
DTSTART;TZID=Europe/Madrid:20260108T103000
DTEND;TZID=Europe/Madrid:20260108T113000
DTSTAMP:20260421T171222
CREATED:20260107T111112Z
LAST-MODIFIED:20260128T160249Z
UID:10001153-1767868200-1767871800@compassionandwisdom.org
SUMMARY:Presencial - Comprende tu Mente-Corazón\, Despierta tu Fuerza
DESCRIPTION:Sobre este curso\nComprende tu Mente-Corazón\, Despierta tu Fuerza es un programa estructurado de 12 semanas diseñado para ayudar a los participantes a comprender la mente\, transformar patrones y vivir con propósito. \nEl curso explora tres vías fundamentales de aprendizaje: Conocimiento\, Fortaleza y Compasión \, guiando a los participantes hacia una vida más feliz y plena. \n\n\n\n\n\n\n\n\n\n\n\nEl curso se imparte en 12 sesiones que exploran los siguientes temas: \nSesión 1: En busca de la felicidadSesión 2: Entendiendo cómo existen las cosasSesión 3: Desarrollando una sana autoconfianzaSesión 4: Compasión: abriendo el corazónSesión 5: Atención plena\, reflexión y pensamiento críticoSesión 6: Intención consciente: ¿Qué quiero realmente?Sesión 7: InterconexiónSesión 8: Aceptando el cambioSesión 9: PercepciónSesión 10: Transformando las emociones dañinasSesión 11: EmpatíaSesión 12: Cultivando la compasión \n\nCada sesion de una hora incluye: \n\nUna practica para calmar la mente y establecer la motivacion\nPresentación del tema y breve intercambio de experiencias \nMeditación guiada sobre el tema de la sesión\nEspacio abierto para el diálogo\nUnos breves momentos para concluir la sesión y ofrecer dedicaciones\n\nCuando\nEl curso empieza el 8 enero de 10:30-11:30\, cada jueves en este horario CEST \n\nLugar\nEste curso esta abierto a tod@s y  se ofrece en el centro Nagarjuna Barcelona. Para mas información por favor visita la web del centro.
URL:https://compassionandwisdom.org/event/presencial-comprende-tu-mente-corazon-despierta-tu-fuerza/2026-01-08/
LOCATION:Nagarjuna Barcelona\, C/Pere IV 201 Bajos\, Barcelona\, 08018\, Spain
CATEGORIES:Dialogues,Meditation,Workshops
ATTACH;FMTTYPE=image/jpeg:https://compassionandwisdom.org/wp-content/uploads/2026/01/women-s-day-celebration-with-flower-2-1.jpg
END:VEVENT
BEGIN:VEVENT
DTSTART;TZID=Europe/Madrid:20260115T103000
DTEND;TZID=Europe/Madrid:20260115T113000
DTSTAMP:20260421T171222
CREATED:20260107T111112Z
LAST-MODIFIED:20260128T160249Z
UID:10001154-1768473000-1768476600@compassionandwisdom.org
SUMMARY:Presencial - Comprende tu Mente-Corazón\, Despierta tu Fuerza
DESCRIPTION:Sobre este curso\nComprende tu Mente-Corazón\, Despierta tu Fuerza es un programa estructurado de 12 semanas diseñado para ayudar a los participantes a comprender la mente\, transformar patrones y vivir con propósito. \nEl curso explora tres vías fundamentales de aprendizaje: Conocimiento\, Fortaleza y Compasión \, guiando a los participantes hacia una vida más feliz y plena. \n\n\n\n\n\n\n\n\n\n\n\nEl curso se imparte en 12 sesiones que exploran los siguientes temas: \nSesión 1: En busca de la felicidadSesión 2: Entendiendo cómo existen las cosasSesión 3: Desarrollando una sana autoconfianzaSesión 4: Compasión: abriendo el corazónSesión 5: Atención plena\, reflexión y pensamiento críticoSesión 6: Intención consciente: ¿Qué quiero realmente?Sesión 7: InterconexiónSesión 8: Aceptando el cambioSesión 9: PercepciónSesión 10: Transformando las emociones dañinasSesión 11: EmpatíaSesión 12: Cultivando la compasión \n\nCada sesion de una hora incluye: \n\nUna practica para calmar la mente y establecer la motivacion\nPresentación del tema y breve intercambio de experiencias \nMeditación guiada sobre el tema de la sesión\nEspacio abierto para el diálogo\nUnos breves momentos para concluir la sesión y ofrecer dedicaciones\n\nCuando\nEl curso empieza el 8 enero de 10:30-11:30\, cada jueves en este horario CEST \n\nLugar\nEste curso esta abierto a tod@s y  se ofrece en el centro Nagarjuna Barcelona. Para mas información por favor visita la web del centro.
URL:https://compassionandwisdom.org/event/presencial-comprende-tu-mente-corazon-despierta-tu-fuerza/2026-01-15/
LOCATION:Nagarjuna Barcelona\, C/Pere IV 201 Bajos\, Barcelona\, 08018\, Spain
CATEGORIES:Dialogues,Meditation,Workshops
ATTACH;FMTTYPE=image/jpeg:https://compassionandwisdom.org/wp-content/uploads/2026/01/women-s-day-celebration-with-flower-2-1.jpg
END:VEVENT
BEGIN:VEVENT
DTSTART;TZID=Europe/Madrid:20260122T103000
DTEND;TZID=Europe/Madrid:20260122T113000
DTSTAMP:20260421T171222
CREATED:20260107T111112Z
LAST-MODIFIED:20260128T160249Z
UID:10001155-1769077800-1769081400@compassionandwisdom.org
SUMMARY:Presencial - Comprende tu Mente-Corazón\, Despierta tu Fuerza
DESCRIPTION:Sobre este curso\nComprende tu Mente-Corazón\, Despierta tu Fuerza es un programa estructurado de 12 semanas diseñado para ayudar a los participantes a comprender la mente\, transformar patrones y vivir con propósito. \nEl curso explora tres vías fundamentales de aprendizaje: Conocimiento\, Fortaleza y Compasión \, guiando a los participantes hacia una vida más feliz y plena. \n\n\n\n\n\n\n\n\n\n\n\nEl curso se imparte en 12 sesiones que exploran los siguientes temas: \nSesión 1: En busca de la felicidadSesión 2: Entendiendo cómo existen las cosasSesión 3: Desarrollando una sana autoconfianzaSesión 4: Compasión: abriendo el corazónSesión 5: Atención plena\, reflexión y pensamiento críticoSesión 6: Intención consciente: ¿Qué quiero realmente?Sesión 7: InterconexiónSesión 8: Aceptando el cambioSesión 9: PercepciónSesión 10: Transformando las emociones dañinasSesión 11: EmpatíaSesión 12: Cultivando la compasión \n\nCada sesion de una hora incluye: \n\nUna practica para calmar la mente y establecer la motivacion\nPresentación del tema y breve intercambio de experiencias \nMeditación guiada sobre el tema de la sesión\nEspacio abierto para el diálogo\nUnos breves momentos para concluir la sesión y ofrecer dedicaciones\n\nCuando\nEl curso empieza el 8 enero de 10:30-11:30\, cada jueves en este horario CEST \n\nLugar\nEste curso esta abierto a tod@s y  se ofrece en el centro Nagarjuna Barcelona. Para mas información por favor visita la web del centro.
URL:https://compassionandwisdom.org/event/presencial-comprende-tu-mente-corazon-despierta-tu-fuerza/2026-01-22/
LOCATION:Nagarjuna Barcelona\, C/Pere IV 201 Bajos\, Barcelona\, 08018\, Spain
CATEGORIES:Dialogues,Meditation,Workshops
ATTACH;FMTTYPE=image/jpeg:https://compassionandwisdom.org/wp-content/uploads/2026/01/women-s-day-celebration-with-flower-2-1.jpg
END:VEVENT
BEGIN:VEVENT
DTSTART;TZID=Europe/Madrid:20260124T110000
DTEND;TZID=Europe/Madrid:20260124T130000
DTSTAMP:20260421T171222
CREATED:20260105T115826Z
LAST-MODIFIED:20260112T150056Z
UID:10001139-1769252400-1769259600@compassionandwisdom.org
SUMMARY:En linea y Presencial: Charla abierta- Educación Universal y Neurociencia con Ceci Buzón
DESCRIPTION:Educación Universal y Neurociencia\nSobre esta charla\nEn los últimos años\, ningún otro campo científico ha aportado más a nuestra comprensión de cómo pensamos y actuamos que la neurociencia. En esta charla nos habla cómo el cerebro interactúa con el entorno a través de los sentidos y cómo estas experiencias dan forma a nuestros pensamientos y acciones.Haciendo una traducción práctica a nuestra vida diaria de estos conocimientos\, en la charla hablaremos de cerebro humano\, teoría de la mente\, percepción y perspectiva\, cómo aprende el cerebro\, memoria y compasión. \n\n\n\n\n\n\n\n\n\n\n\nCuando \nSábado 24 de enero de 2026\, de 11:00 a 13:00. \nLugar \nEsta charla ha sido organizada en colabracion con el proyecto Wise Lama y se ofrece en el centro Nagarjuna Barcelona y también en linea. Para mas información y para inscribirte\, por favor visita la web del centro. \nAportacion: presencial donación 20 eur /Zoom 10 eur \nFacilitadora\nCecilia Buzón es diplomada en Neuropsico-educación por la Universidad de Buenos Aires. En 2015\, recibió una beca para estudiar en la Universidad de Berkeley\, en California. Actualmente estudia educación emocional para el trauma y la resiliencia en la Universidad de Buenos Aires. Se formó en Creación de Culturas Compasivas (CCC) en Francia y en la Escuela Tara Redwood en California.Es facilitadora en la FDCW\, neuro educadora\, terapeuta mindfulness y profesora de escuela primaria y secundaria en Argentina.Con 23 años de experiencia docente\, ha sido directora de su propia escuela en Argentina durante 17 años. Imparte formación a docentes y retiros sobre la implementación del aprendizaje social y emocional en el aula.Ceci también aporta una combinación única de experiencia y conocimiento.
URL:https://compassionandwisdom.org/event/charla-abierta-educacion-universal-y-neurociencia-con-ceci-buzon/
LOCATION:Nagarjuna Barcelona\, C/Pere IV 201 Bajos\, Barcelona\, 08018\, Spain
CATEGORIES:Workshops
ATTACH;FMTTYPE=image/png:https://compassionandwisdom.org/wp-content/uploads/2026/01/Foto-neurociencia.png
END:VEVENT
BEGIN:VEVENT
DTSTART;TZID=Europe/Madrid:20260129T103000
DTEND;TZID=Europe/Madrid:20260129T113000
DTSTAMP:20260421T171222
CREATED:20260107T111112Z
LAST-MODIFIED:20260128T160249Z
UID:10001156-1769682600-1769686200@compassionandwisdom.org
SUMMARY:Presencial - Comprende tu Mente-Corazón\, Despierta tu Fuerza
DESCRIPTION:Sobre este curso\nComprende tu Mente-Corazón\, Despierta tu Fuerza es un programa estructurado de 12 semanas diseñado para ayudar a los participantes a comprender la mente\, transformar patrones y vivir con propósito. \nEl curso explora tres vías fundamentales de aprendizaje: Conocimiento\, Fortaleza y Compasión \, guiando a los participantes hacia una vida más feliz y plena. \n\n\n\n\n\n\n\n\n\n\n\nEl curso se imparte en 12 sesiones que exploran los siguientes temas: \nSesión 1: En busca de la felicidadSesión 2: Entendiendo cómo existen las cosasSesión 3: Desarrollando una sana autoconfianzaSesión 4: Compasión: abriendo el corazónSesión 5: Atención plena\, reflexión y pensamiento críticoSesión 6: Intención consciente: ¿Qué quiero realmente?Sesión 7: InterconexiónSesión 8: Aceptando el cambioSesión 9: PercepciónSesión 10: Transformando las emociones dañinasSesión 11: EmpatíaSesión 12: Cultivando la compasión \n\nCada sesion de una hora incluye: \n\nUna practica para calmar la mente y establecer la motivacion\nPresentación del tema y breve intercambio de experiencias \nMeditación guiada sobre el tema de la sesión\nEspacio abierto para el diálogo\nUnos breves momentos para concluir la sesión y ofrecer dedicaciones\n\nCuando\nEl curso empieza el 8 enero de 10:30-11:30\, cada jueves en este horario CEST \n\nLugar\nEste curso esta abierto a tod@s y  se ofrece en el centro Nagarjuna Barcelona. Para mas información por favor visita la web del centro.
URL:https://compassionandwisdom.org/event/presencial-comprende-tu-mente-corazon-despierta-tu-fuerza/2026-01-29/
LOCATION:Nagarjuna Barcelona\, C/Pere IV 201 Bajos\, Barcelona\, 08018\, Spain
CATEGORIES:Dialogues,Meditation,Workshops
ATTACH;FMTTYPE=image/jpeg:https://compassionandwisdom.org/wp-content/uploads/2026/01/women-s-day-celebration-with-flower-2-1.jpg
END:VEVENT
END:VCALENDAR