BEGIN:VCALENDAR
VERSION:2.0
PRODID:-//Foundation for Developing Compassion and Wisdom - ECPv6.15.20//NONSGML v1.0//EN
CALSCALE:GREGORIAN
METHOD:PUBLISH
X-WR-CALNAME:Foundation for Developing Compassion and Wisdom
X-ORIGINAL-URL:https://compassionandwisdom.org
X-WR-CALDESC:Events for Foundation for Developing Compassion and Wisdom
REFRESH-INTERVAL;VALUE=DURATION:PT1H
X-Robots-Tag:noindex
X-PUBLISHED-TTL:PT1H
BEGIN:VTIMEZONE
TZID:America/New_York
BEGIN:DAYLIGHT
TZOFFSETFROM:-0500
TZOFFSETTO:-0400
TZNAME:EDT
DTSTART:20240310T070000
END:DAYLIGHT
BEGIN:STANDARD
TZOFFSETFROM:-0400
TZOFFSETTO:-0500
TZNAME:EST
DTSTART:20241103T060000
END:STANDARD
BEGIN:DAYLIGHT
TZOFFSETFROM:-0500
TZOFFSETTO:-0400
TZNAME:EDT
DTSTART:20250309T070000
END:DAYLIGHT
BEGIN:STANDARD
TZOFFSETFROM:-0400
TZOFFSETTO:-0500
TZNAME:EST
DTSTART:20251102T060000
END:STANDARD
BEGIN:DAYLIGHT
TZOFFSETFROM:-0500
TZOFFSETTO:-0400
TZNAME:EDT
DTSTART:20260308T070000
END:DAYLIGHT
BEGIN:STANDARD
TZOFFSETFROM:-0400
TZOFFSETTO:-0500
TZNAME:EST
DTSTART:20261101T060000
END:STANDARD
END:VTIMEZONE
BEGIN:VEVENT
DTSTART;TZID=America/New_York:20250729T183000
DTEND;TZID=America/New_York:20250729T200000
DTSTAMP:20260420T203836
CREATED:20241105T154953Z
LAST-MODIFIED:20250624T150944Z
UID:10000756-1753813800-1753819200@compassionandwisdom.org
SUMMARY:Summer Empathy Circles with Janna Weiss
DESCRIPTION:Empathy Circle with Janna Weiss\nOverview of the Sessions:\nIn this series of Empathy Circles with the 16 Guidelines\, we will explore the first Wisdom Theme: How We Think\, and its four Guidelines: \n\nHumility\nPatience\nContentment\nand Joy at the success of others / Delight.\n\nEmpathy Circles are an opportunity to practice and strengthen our active listening “empathy muscle” in an “empathy gym.” During the reflective listening practice\, we not only discuss the Guidelines\, but also embody and experience the Guidelines firsthand. \nBoth the 16 Guidelines and the Empathy Circle help grow and deepen our appreciation of our common humanity\, essential for cultivating genuine happiness\, and beneficial social action and harmony. \nThe first four Guidelines\, Humility\, Patience\, Contentment\, and Joy at the success of others\, are direct antidotes to our main afflictive minds: pride and self-centeredness that arise from our mistaken\, exaggerated view of self; anger and hatred; craving and greed; envy and jealousy. \nJanna will introduce each session with excerpts from the 16 Guidelines for Life: The Basics (included in the Conversations That Matter free resource)\, quotes\, and suggested topic questions\, or you can share whatever is alive in you. When it’s your turn to speak\, whatever is on your heart and mind is always welcome in an Empathy Circle. \nJoin any session—or all five! \nPlease come on time and plan on staying for the full 1.5 hours. \nAbout the Empathy Circles:\nThe Empathy Circle practice is the most effective gateway practice for learning\, practicing deep listening and empathy skills\, as well as nurturing an empathic way of being. \n\nThe Empathy Circle provides a structured dialogue process where each person feels fully heard; fostering mutual understanding and connection. The Empathy Circle practice not only hones empathy but also helps to develop a range of valuable skills\, such as communication and conflict management skills; making it a powerful tool for personal growth\, conflict resolution\, and meaningful dialogue. \nThe four core values of the Empathy Circle are empathy\, mutuality\, openness and caring. Sharing our experiences and practicing listening together can help us feel connected to others in a meaningful and supportive way. \nThese online Empathy Circles are for people of all ages and backgrounds\, who are looking for practical tools to create positive transformation in their homes\, individual lives\, relationships\, community\, or workplace. \nCurious? You can watch Janna introducing the Empathy Circles in a short video here \n\nSessions Schedule:\nTuesdays\, Jul 1\, 8\, 15\, 22 & 29\, 6:30–8pm EDT. You can join on any session!\nThere will be no recordings made. \nFor more information on how to join and to access support materials\, please visit the Shantideva Center website \nWho are these sessions for?\nThese Online Empathy Circles are for people of all ages\, backgrounds and ideas\, who are looking for practical tools to create positive transformation in their homes\, individual lives\, relationships\, community\, or workplace. \nAbout the facilitator:\nJanna is an acupuncturist and herbalist\, and teaches mind science in New York City. She holds a PhD from the University of Texas at Austin in Biological Sciences—Botany (ethnobotany). Janna is also a human rights activist\, for peace\, for Tibet\, for the rights of people with psychosocial disabilities\, and for the real rights of children and families. Janna began studying Tibetan Buddhism in 2005. She is an accredited 16 Guidelines Level 1 & 2 and Unlocking Your Potential Facilitator\, and an Empathy Circle Facilitator.
URL:https://compassionandwisdom.org/event/empathy-circles-with-janna-weiss/2025-07-29/
LOCATION:Online
ATTACH;FMTTYPE=image/jpeg:https://compassionandwisdom.org/wp-content/uploads/2024/03/Hands-16G-FDCW.jpg
END:VEVENT
BEGIN:VEVENT
DTSTART;TZID=America/New_York:20250722T183000
DTEND;TZID=America/New_York:20250722T200000
DTSTAMP:20260420T203836
CREATED:20241105T154953Z
LAST-MODIFIED:20250624T150944Z
UID:10000755-1753209000-1753214400@compassionandwisdom.org
SUMMARY:Summer Empathy Circles with Janna Weiss
DESCRIPTION:Empathy Circle with Janna Weiss\nOverview of the Sessions:\nIn this series of Empathy Circles with the 16 Guidelines\, we will explore the first Wisdom Theme: How We Think\, and its four Guidelines: \n\nHumility\nPatience\nContentment\nand Joy at the success of others / Delight.\n\nEmpathy Circles are an opportunity to practice and strengthen our active listening “empathy muscle” in an “empathy gym.” During the reflective listening practice\, we not only discuss the Guidelines\, but also embody and experience the Guidelines firsthand. \nBoth the 16 Guidelines and the Empathy Circle help grow and deepen our appreciation of our common humanity\, essential for cultivating genuine happiness\, and beneficial social action and harmony. \nThe first four Guidelines\, Humility\, Patience\, Contentment\, and Joy at the success of others\, are direct antidotes to our main afflictive minds: pride and self-centeredness that arise from our mistaken\, exaggerated view of self; anger and hatred; craving and greed; envy and jealousy. \nJanna will introduce each session with excerpts from the 16 Guidelines for Life: The Basics (included in the Conversations That Matter free resource)\, quotes\, and suggested topic questions\, or you can share whatever is alive in you. When it’s your turn to speak\, whatever is on your heart and mind is always welcome in an Empathy Circle. \nJoin any session—or all five! \nPlease come on time and plan on staying for the full 1.5 hours. \nAbout the Empathy Circles:\nThe Empathy Circle practice is the most effective gateway practice for learning\, practicing deep listening and empathy skills\, as well as nurturing an empathic way of being. \n\nThe Empathy Circle provides a structured dialogue process where each person feels fully heard; fostering mutual understanding and connection. The Empathy Circle practice not only hones empathy but also helps to develop a range of valuable skills\, such as communication and conflict management skills; making it a powerful tool for personal growth\, conflict resolution\, and meaningful dialogue. \nThe four core values of the Empathy Circle are empathy\, mutuality\, openness and caring. Sharing our experiences and practicing listening together can help us feel connected to others in a meaningful and supportive way. \nThese online Empathy Circles are for people of all ages and backgrounds\, who are looking for practical tools to create positive transformation in their homes\, individual lives\, relationships\, community\, or workplace. \nCurious? You can watch Janna introducing the Empathy Circles in a short video here \n\nSessions Schedule:\nTuesdays\, Jul 1\, 8\, 15\, 22 & 29\, 6:30–8pm EDT. You can join on any session!\nThere will be no recordings made. \nFor more information on how to join and to access support materials\, please visit the Shantideva Center website \nWho are these sessions for?\nThese Online Empathy Circles are for people of all ages\, backgrounds and ideas\, who are looking for practical tools to create positive transformation in their homes\, individual lives\, relationships\, community\, or workplace. \nAbout the facilitator:\nJanna is an acupuncturist and herbalist\, and teaches mind science in New York City. She holds a PhD from the University of Texas at Austin in Biological Sciences—Botany (ethnobotany). Janna is also a human rights activist\, for peace\, for Tibet\, for the rights of people with psychosocial disabilities\, and for the real rights of children and families. Janna began studying Tibetan Buddhism in 2005. She is an accredited 16 Guidelines Level 1 & 2 and Unlocking Your Potential Facilitator\, and an Empathy Circle Facilitator.
URL:https://compassionandwisdom.org/event/empathy-circles-with-janna-weiss/2025-07-22/
LOCATION:Online
ATTACH;FMTTYPE=image/jpeg:https://compassionandwisdom.org/wp-content/uploads/2024/03/Hands-16G-FDCW.jpg
END:VEVENT
BEGIN:VEVENT
DTSTART;TZID=America/New_York:20250715T183000
DTEND;TZID=America/New_York:20250715T200000
DTSTAMP:20260420T203836
CREATED:20241105T154953Z
LAST-MODIFIED:20250624T150944Z
UID:10000754-1752604200-1752609600@compassionandwisdom.org
SUMMARY:Summer Empathy Circles with Janna Weiss
DESCRIPTION:Empathy Circle with Janna Weiss\nOverview of the Sessions:\nIn this series of Empathy Circles with the 16 Guidelines\, we will explore the first Wisdom Theme: How We Think\, and its four Guidelines: \n\nHumility\nPatience\nContentment\nand Joy at the success of others / Delight.\n\nEmpathy Circles are an opportunity to practice and strengthen our active listening “empathy muscle” in an “empathy gym.” During the reflective listening practice\, we not only discuss the Guidelines\, but also embody and experience the Guidelines firsthand. \nBoth the 16 Guidelines and the Empathy Circle help grow and deepen our appreciation of our common humanity\, essential for cultivating genuine happiness\, and beneficial social action and harmony. \nThe first four Guidelines\, Humility\, Patience\, Contentment\, and Joy at the success of others\, are direct antidotes to our main afflictive minds: pride and self-centeredness that arise from our mistaken\, exaggerated view of self; anger and hatred; craving and greed; envy and jealousy. \nJanna will introduce each session with excerpts from the 16 Guidelines for Life: The Basics (included in the Conversations That Matter free resource)\, quotes\, and suggested topic questions\, or you can share whatever is alive in you. When it’s your turn to speak\, whatever is on your heart and mind is always welcome in an Empathy Circle. \nJoin any session—or all five! \nPlease come on time and plan on staying for the full 1.5 hours. \nAbout the Empathy Circles:\nThe Empathy Circle practice is the most effective gateway practice for learning\, practicing deep listening and empathy skills\, as well as nurturing an empathic way of being. \n\nThe Empathy Circle provides a structured dialogue process where each person feels fully heard; fostering mutual understanding and connection. The Empathy Circle practice not only hones empathy but also helps to develop a range of valuable skills\, such as communication and conflict management skills; making it a powerful tool for personal growth\, conflict resolution\, and meaningful dialogue. \nThe four core values of the Empathy Circle are empathy\, mutuality\, openness and caring. Sharing our experiences and practicing listening together can help us feel connected to others in a meaningful and supportive way. \nThese online Empathy Circles are for people of all ages and backgrounds\, who are looking for practical tools to create positive transformation in their homes\, individual lives\, relationships\, community\, or workplace. \nCurious? You can watch Janna introducing the Empathy Circles in a short video here \n\nSessions Schedule:\nTuesdays\, Jul 1\, 8\, 15\, 22 & 29\, 6:30–8pm EDT. You can join on any session!\nThere will be no recordings made. \nFor more information on how to join and to access support materials\, please visit the Shantideva Center website \nWho are these sessions for?\nThese Online Empathy Circles are for people of all ages\, backgrounds and ideas\, who are looking for practical tools to create positive transformation in their homes\, individual lives\, relationships\, community\, or workplace. \nAbout the facilitator:\nJanna is an acupuncturist and herbalist\, and teaches mind science in New York City. She holds a PhD from the University of Texas at Austin in Biological Sciences—Botany (ethnobotany). Janna is also a human rights activist\, for peace\, for Tibet\, for the rights of people with psychosocial disabilities\, and for the real rights of children and families. Janna began studying Tibetan Buddhism in 2005. She is an accredited 16 Guidelines Level 1 & 2 and Unlocking Your Potential Facilitator\, and an Empathy Circle Facilitator.
URL:https://compassionandwisdom.org/event/empathy-circles-with-janna-weiss/2025-07-15/
LOCATION:Online
ATTACH;FMTTYPE=image/jpeg:https://compassionandwisdom.org/wp-content/uploads/2024/03/Hands-16G-FDCW.jpg
END:VEVENT
BEGIN:VEVENT
DTSTART;TZID=America/New_York:20250708T183000
DTEND;TZID=America/New_York:20250708T200000
DTSTAMP:20260420T203836
CREATED:20241105T154953Z
LAST-MODIFIED:20250624T150944Z
UID:10000753-1751999400-1752004800@compassionandwisdom.org
SUMMARY:Summer Empathy Circles with Janna Weiss
DESCRIPTION:Empathy Circle with Janna Weiss\nOverview of the Sessions:\nIn this series of Empathy Circles with the 16 Guidelines\, we will explore the first Wisdom Theme: How We Think\, and its four Guidelines: \n\nHumility\nPatience\nContentment\nand Joy at the success of others / Delight.\n\nEmpathy Circles are an opportunity to practice and strengthen our active listening “empathy muscle” in an “empathy gym.” During the reflective listening practice\, we not only discuss the Guidelines\, but also embody and experience the Guidelines firsthand. \nBoth the 16 Guidelines and the Empathy Circle help grow and deepen our appreciation of our common humanity\, essential for cultivating genuine happiness\, and beneficial social action and harmony. \nThe first four Guidelines\, Humility\, Patience\, Contentment\, and Joy at the success of others\, are direct antidotes to our main afflictive minds: pride and self-centeredness that arise from our mistaken\, exaggerated view of self; anger and hatred; craving and greed; envy and jealousy. \nJanna will introduce each session with excerpts from the 16 Guidelines for Life: The Basics (included in the Conversations That Matter free resource)\, quotes\, and suggested topic questions\, or you can share whatever is alive in you. When it’s your turn to speak\, whatever is on your heart and mind is always welcome in an Empathy Circle. \nJoin any session—or all five! \nPlease come on time and plan on staying for the full 1.5 hours. \nAbout the Empathy Circles:\nThe Empathy Circle practice is the most effective gateway practice for learning\, practicing deep listening and empathy skills\, as well as nurturing an empathic way of being. \n\nThe Empathy Circle provides a structured dialogue process where each person feels fully heard; fostering mutual understanding and connection. The Empathy Circle practice not only hones empathy but also helps to develop a range of valuable skills\, such as communication and conflict management skills; making it a powerful tool for personal growth\, conflict resolution\, and meaningful dialogue. \nThe four core values of the Empathy Circle are empathy\, mutuality\, openness and caring. Sharing our experiences and practicing listening together can help us feel connected to others in a meaningful and supportive way. \nThese online Empathy Circles are for people of all ages and backgrounds\, who are looking for practical tools to create positive transformation in their homes\, individual lives\, relationships\, community\, or workplace. \nCurious? You can watch Janna introducing the Empathy Circles in a short video here \n\nSessions Schedule:\nTuesdays\, Jul 1\, 8\, 15\, 22 & 29\, 6:30–8pm EDT. You can join on any session!\nThere will be no recordings made. \nFor more information on how to join and to access support materials\, please visit the Shantideva Center website \nWho are these sessions for?\nThese Online Empathy Circles are for people of all ages\, backgrounds and ideas\, who are looking for practical tools to create positive transformation in their homes\, individual lives\, relationships\, community\, or workplace. \nAbout the facilitator:\nJanna is an acupuncturist and herbalist\, and teaches mind science in New York City. She holds a PhD from the University of Texas at Austin in Biological Sciences—Botany (ethnobotany). Janna is also a human rights activist\, for peace\, for Tibet\, for the rights of people with psychosocial disabilities\, and for the real rights of children and families. Janna began studying Tibetan Buddhism in 2005. She is an accredited 16 Guidelines Level 1 & 2 and Unlocking Your Potential Facilitator\, and an Empathy Circle Facilitator.
URL:https://compassionandwisdom.org/event/empathy-circles-with-janna-weiss/2025-07-08/
LOCATION:Online
ATTACH;FMTTYPE=image/jpeg:https://compassionandwisdom.org/wp-content/uploads/2024/03/Hands-16G-FDCW.jpg
END:VEVENT
BEGIN:VEVENT
DTSTART;TZID=America/New_York:20250701T183000
DTEND;TZID=America/New_York:20250701T200000
DTSTAMP:20260420T203836
CREATED:20241105T154953Z
LAST-MODIFIED:20250624T150944Z
UID:10000752-1751394600-1751400000@compassionandwisdom.org
SUMMARY:Summer Empathy Circles with Janna Weiss
DESCRIPTION:Empathy Circle with Janna Weiss\nOverview of the Sessions:\nIn this series of Empathy Circles with the 16 Guidelines\, we will explore the first Wisdom Theme: How We Think\, and its four Guidelines: \n\nHumility\nPatience\nContentment\nand Joy at the success of others / Delight.\n\nEmpathy Circles are an opportunity to practice and strengthen our active listening “empathy muscle” in an “empathy gym.” During the reflective listening practice\, we not only discuss the Guidelines\, but also embody and experience the Guidelines firsthand. \nBoth the 16 Guidelines and the Empathy Circle help grow and deepen our appreciation of our common humanity\, essential for cultivating genuine happiness\, and beneficial social action and harmony. \nThe first four Guidelines\, Humility\, Patience\, Contentment\, and Joy at the success of others\, are direct antidotes to our main afflictive minds: pride and self-centeredness that arise from our mistaken\, exaggerated view of self; anger and hatred; craving and greed; envy and jealousy. \nJanna will introduce each session with excerpts from the 16 Guidelines for Life: The Basics (included in the Conversations That Matter free resource)\, quotes\, and suggested topic questions\, or you can share whatever is alive in you. When it’s your turn to speak\, whatever is on your heart and mind is always welcome in an Empathy Circle. \nJoin any session—or all five! \nPlease come on time and plan on staying for the full 1.5 hours. \nAbout the Empathy Circles:\nThe Empathy Circle practice is the most effective gateway practice for learning\, practicing deep listening and empathy skills\, as well as nurturing an empathic way of being. \n\nThe Empathy Circle provides a structured dialogue process where each person feels fully heard; fostering mutual understanding and connection. The Empathy Circle practice not only hones empathy but also helps to develop a range of valuable skills\, such as communication and conflict management skills; making it a powerful tool for personal growth\, conflict resolution\, and meaningful dialogue. \nThe four core values of the Empathy Circle are empathy\, mutuality\, openness and caring. Sharing our experiences and practicing listening together can help us feel connected to others in a meaningful and supportive way. \nThese online Empathy Circles are for people of all ages and backgrounds\, who are looking for practical tools to create positive transformation in their homes\, individual lives\, relationships\, community\, or workplace. \nCurious? You can watch Janna introducing the Empathy Circles in a short video here \n\nSessions Schedule:\nTuesdays\, Jul 1\, 8\, 15\, 22 & 29\, 6:30–8pm EDT. You can join on any session!\nThere will be no recordings made. \nFor more information on how to join and to access support materials\, please visit the Shantideva Center website \nWho are these sessions for?\nThese Online Empathy Circles are for people of all ages\, backgrounds and ideas\, who are looking for practical tools to create positive transformation in their homes\, individual lives\, relationships\, community\, or workplace. \nAbout the facilitator:\nJanna is an acupuncturist and herbalist\, and teaches mind science in New York City. She holds a PhD from the University of Texas at Austin in Biological Sciences—Botany (ethnobotany). Janna is also a human rights activist\, for peace\, for Tibet\, for the rights of people with psychosocial disabilities\, and for the real rights of children and families. Janna began studying Tibetan Buddhism in 2005. She is an accredited 16 Guidelines Level 1 & 2 and Unlocking Your Potential Facilitator\, and an Empathy Circle Facilitator.
URL:https://compassionandwisdom.org/event/empathy-circles-with-janna-weiss/2025-07-01/
LOCATION:Online
ATTACH;FMTTYPE=image/jpeg:https://compassionandwisdom.org/wp-content/uploads/2024/03/Hands-16G-FDCW.jpg
END:VEVENT
END:VCALENDAR