BEGIN:VCALENDAR
VERSION:2.0
PRODID:-//Foundation for Developing Compassion and Wisdom - ECPv6.15.20//NONSGML v1.0//EN
CALSCALE:GREGORIAN
METHOD:PUBLISH
X-ORIGINAL-URL:https://compassionandwisdom.org
X-WR-CALDESC:Events for Foundation for Developing Compassion and Wisdom
REFRESH-INTERVAL;VALUE=DURATION:PT1H
X-Robots-Tag:noindex
X-PUBLISHED-TTL:PT1H
BEGIN:VTIMEZONE
TZID:Europe/Paris
BEGIN:DAYLIGHT
TZOFFSETFROM:+0100
TZOFFSETTO:+0200
TZNAME:CEST
DTSTART:20250330T010000
END:DAYLIGHT
BEGIN:STANDARD
TZOFFSETFROM:+0200
TZOFFSETTO:+0100
TZNAME:CET
DTSTART:20251026T010000
END:STANDARD
BEGIN:DAYLIGHT
TZOFFSETFROM:+0100
TZOFFSETTO:+0200
TZNAME:CEST
DTSTART:20260329T010000
END:DAYLIGHT
BEGIN:STANDARD
TZOFFSETFROM:+0200
TZOFFSETTO:+0100
TZNAME:CET
DTSTART:20261025T010000
END:STANDARD
BEGIN:DAYLIGHT
TZOFFSETFROM:+0100
TZOFFSETTO:+0200
TZNAME:CEST
DTSTART:20270328T010000
END:DAYLIGHT
BEGIN:STANDARD
TZOFFSETFROM:+0200
TZOFFSETTO:+0100
TZNAME:CET
DTSTART:20271031T010000
END:STANDARD
END:VTIMEZONE
BEGIN:VEVENT
DTSTART;TZID=Europe/Paris:20260314T100000
DTEND;TZID=Europe/Paris:20260315T173000
DTSTAMP:20260420T103648
CREATED:20260107T161408Z
LAST-MODIFIED:20260107T161926Z
UID:10001167-1773482400-1773595800@compassionandwisdom.org
SUMMARY:Atelier-16 Attitudes pour Mieux Vivre Niveau1 | en Français
DESCRIPTION:Donner plus de sens à notre vie!\nAperçu de l’Atelier :\nLes 16 Attitudes sont une présentation contemporaine des valeurs et principes qui ont transformé tout un peuple au Tibet il y a plus de 1000 ans. Elles proposent un cadre simple et structuré pour développer la résilience émotionnelle\, transformer nos relations\, et apporter la paix intérieure\, même dans les circonstances difficiles. Fondées sur quatre thèmes philosophiques : comment nous pensons\, comment nous agissons\, comment nous interagissons et comment nous trouvons du sens. \nCet atelier permet de nous connecter à notre sagesse intérieure en explorant et en pratiquant les 16 attitudes. Atelier participatif et dynamique avec des courtes séances de méditation de pleine conscience\, des exercices en binôme ou en groupe et des discussions.  \nDécouvrir les 16 attitudes et d’autres outils simples et efficaces pour repérer vos habitudes et pour prendre du recul afin de vous connecter à vos ressources intérieures et vous familiariser avec des comportements qui incarnent la sagesse universelle. \nLes 16 Attitudes sont : l’humilité\, la patience\, le contentement\, la joie\, la gentillesse\, l’honnêteté\, la générosité\, la parole juste\, le respect\, le pardon\, la gratitude\, la loyauté\, l’aspiration\, les principes\, le service\, le courage. \nSchedule\n\nDATE: 14 et 15 mars 2026\, 10h – 17h30\nLIEU: Institut Vajra Yogini\, Marzens\, dans le Tarn\nINSCRIPTIONS-16attitudes@gmail.com\n\n\n*Minimum de 8 personnes. \n*Cet atelier est proposé sur la base d’un don\, avec un montant suggéré de 80 €. \n\nCe stage est suivi d’un niveau 2 : le Seize à Vivre et d’un niveau 3 pour ceux qui souhaitent devenir facilitateur.
URL:https://compassionandwisdom.org/event/atelier-16-attitudes-pour-mieux-vivre-en-francais/
LOCATION:Vajra Yogini\, les clauzades\, Marzens\, tarn\, 81500\, France
CATEGORIES:16 Guidelines,Workshops
ATTACH;FMTTYPE=image/jpeg:https://compassionandwisdom.org/wp-content/uploads/2024/02/5.-Kindness.jpeg
END:VEVENT
END:VCALENDAR