BEGIN:VCALENDAR
VERSION:2.0
PRODID:-//Foundation for Developing Compassion and Wisdom - ECPv6.15.20//NONSGML v1.0//EN
CALSCALE:GREGORIAN
METHOD:PUBLISH
X-WR-CALNAME:Foundation for Developing Compassion and Wisdom
X-ORIGINAL-URL:https://compassionandwisdom.org
X-WR-CALDESC:Events for Foundation for Developing Compassion and Wisdom
REFRESH-INTERVAL;VALUE=DURATION:PT1H
X-Robots-Tag:noindex
X-PUBLISHED-TTL:PT1H
BEGIN:VTIMEZONE
TZID:Europe/Paris
BEGIN:DAYLIGHT
TZOFFSETFROM:+0100
TZOFFSETTO:+0200
TZNAME:CEST
DTSTART:20230326T010000
END:DAYLIGHT
BEGIN:STANDARD
TZOFFSETFROM:+0200
TZOFFSETTO:+0100
TZNAME:CET
DTSTART:20231029T010000
END:STANDARD
BEGIN:DAYLIGHT
TZOFFSETFROM:+0100
TZOFFSETTO:+0200
TZNAME:CEST
DTSTART:20240331T010000
END:DAYLIGHT
BEGIN:STANDARD
TZOFFSETFROM:+0200
TZOFFSETTO:+0100
TZNAME:CET
DTSTART:20241027T010000
END:STANDARD
BEGIN:DAYLIGHT
TZOFFSETFROM:+0100
TZOFFSETTO:+0200
TZNAME:CEST
DTSTART:20250330T010000
END:DAYLIGHT
BEGIN:STANDARD
TZOFFSETFROM:+0200
TZOFFSETTO:+0100
TZNAME:CET
DTSTART:20251026T010000
END:STANDARD
END:VTIMEZONE
BEGIN:VEVENT
DTSTART;TZID=Europe/Paris:20240727T100000
DTEND;TZID=Europe/Paris:20240727T173000
DTSTAMP:20260421T105145
CREATED:20240411T122434Z
LAST-MODIFIED:20240619T105147Z
UID:10000152-1722074400-1722101400@compassionandwisdom.org
SUMMARY:Art\, Nature et les 16 Attitudes | en français
DESCRIPTION:Aperçu de l’atelier :\nRendez les 16 attitudes vivantes !\nExplorez de manière ludique et expérimentale les 16 attitudes à travers l’art et la nature. Nous travaillerons avec l’art (visuel\, musical ou écrit) pendant la moitié de la journée\, puis nous irons dans la nature pour l’autre moitié. Nous aurons l’occasion d’explorer une œuvre d’art et de créer nos propres œuvres. Tout au long de la journée\, nous cultiverons une présence bienveillante envers notre environnement extérieur et intérieur grâce à des pratiques de pleine conscience. \nVenez explorer\, créer et vous connecter à la nature avec vos amis et votre famille. \nCet atelier d’une journée est ouvert à tous à partir de 12 ans. Avec Mabel Odessey \nParticipation\npar donation avec une suggestion de 35€ \nSchedule\n27 juillet 2024 – 10H – 17h30\, CET\nFACILITATRICE : Mabel Odessey\nINSCRIPTIONS : 16attitudes@gmail.com \nMeet our Facilitator:\n\n\n\n\n\n\n\n\n\n\n\n\n\n\n\n\n\nMabel is an accredited 16G Level 1\, Level 2 and 16G for Children and Teens as well as Building Balanced Empathy facilitator. She is a founder member of Education Universelle France and she also works as a photographer and lives in France. \nMabel has completed the 2nd year MSc (Masters in Mindfulness and Compassion) at the University of the West of Scotland\, and has received a post graduate diploma. She has been trained to teach the MBLC and CBLC course by the UK Mindfulness Association.. \nHer workshop on Kindful Communication was featured at the FDCW’s Compassion and Wisdom conference 2021
URL:https://compassionandwisdom.org/event/art-nature-et-les-16-attitudes/
LOCATION:Vajra Yogini\, les clauzades\, Marzens\, tarn\, 81500\, France
ATTACH;FMTTYPE=image/jpeg:https://compassionandwisdom.org/wp-content/uploads/2024/04/AdobeStock_357690327.jpeg
ORGANIZER;CN="Mabel Odessey":MAILTO:16attitudes@gmail.com
END:VEVENT
END:VCALENDAR