BEGIN:VCALENDAR
VERSION:2.0
PRODID:-//Foundation for Developing Compassion and Wisdom - ECPv6.15.20//NONSGML v1.0//EN
CALSCALE:GREGORIAN
METHOD:PUBLISH
X-ORIGINAL-URL:https://compassionandwisdom.org
X-WR-CALDESC:Events for Foundation for Developing Compassion and Wisdom
REFRESH-INTERVAL;VALUE=DURATION:PT1H
X-Robots-Tag:noindex
X-PUBLISHED-TTL:PT1H
BEGIN:VTIMEZONE
TZID:America/Toronto
BEGIN:DAYLIGHT
TZOFFSETFROM:-0500
TZOFFSETTO:-0400
TZNAME:EDT
DTSTART:20230312T070000
END:DAYLIGHT
BEGIN:STANDARD
TZOFFSETFROM:-0400
TZOFFSETTO:-0500
TZNAME:EST
DTSTART:20231105T060000
END:STANDARD
BEGIN:DAYLIGHT
TZOFFSETFROM:-0500
TZOFFSETTO:-0400
TZNAME:EDT
DTSTART:20240310T070000
END:DAYLIGHT
BEGIN:STANDARD
TZOFFSETFROM:-0400
TZOFFSETTO:-0500
TZNAME:EST
DTSTART:20241103T060000
END:STANDARD
BEGIN:DAYLIGHT
TZOFFSETFROM:-0500
TZOFFSETTO:-0400
TZNAME:EDT
DTSTART:20250309T070000
END:DAYLIGHT
BEGIN:STANDARD
TZOFFSETFROM:-0400
TZOFFSETTO:-0500
TZNAME:EST
DTSTART:20251102T060000
END:STANDARD
END:VTIMEZONE
BEGIN:VEVENT
DTSTART;TZID=America/Toronto:20240707T160000
DTEND;TZID=America/Toronto:20240728T190000
DTSTAMP:20260421T130433
CREATED:20240529T122138Z
LAST-MODIFIED:20240830T155838Z
UID:10000158-1720368000-1722193200@compassionandwisdom.org
SUMMARY:16G L1 | Building Inner Strength
DESCRIPTION:Join us for this 16 Guidelines level 1 course facilitated by Janna Weiss and Ruth Cook in 4 online sessions on Sundays \nAbout the course\nThe 12-hours\, Building Inner Strength – 16 Guidelines for Life program offers a learning path to transformative change. \nThe 16 Guidelines program provides a simple\, robust and flexible framework for developing emotional resilience\, empathy\, compassion and transformative change\, suitable for both educational curricula and for personal and professional development. If you’re seeking practical tools to bring about positive change in your life\, this experiential course is for you. \nYou’ll explore the 16 Guidelines framework to deepen your experience in mindfulness and resilience\, as an embodied practice. Drawing on proven techniques from positive psychology\, social justice practices\, neuroscience and centuries-old Eastern philosophy\, you’ll develop an ethical\, holistic approach to self-improvement and cultural change. \nThis course is recognized by Foundation for Developing Compassion and Wisdom\, as part of their Training Pathway to become an Accredited 16 Guidelines Level 1 Facilitator. \nWhat you’ll learn\n\nIncreased emotional resilience by using a set of practical and transformative tools\nIdentify and apply your own embodied practice of mindful qualities in your personal and professional life\nA greater capacity for insight and personal reflection and a greater sense of well-being\, confidence and purpose\nIntegrate and apply mindfulness and other practical tools to the four wisdom themes of the 16 G: Mindful thought; mindful actions; mindful relationships; and mindful purpose and livelihood\n\nSchedule: 4 online Sunday sessions from 4 pm BST to 7 pm BST\, from the 7th to the 28th July \nWho is this course for?\nThis online 16G Level One course is for people of all ages\, backgrounds and ideas\, who are looking for practical tools to create positive transformation in their homes\, individual lives\, relationships\, community\, or workplace. \nBookings and more info\nFor more info and to register please fill in this form \nFacilitator Janna Weiss and Ruth Cook\n \nJanna is an acupuncturist and herbalist\, and teaches mind science in New York City. She holds a PhD from the University of Texas at Austin in Biological Sciences—Botany (ethnobotany). Janna is also a human rights activist\, for peace\, for Tibet\, for the rights of people with psychosocial disabilities\, and for the real rights of children and families. Janna began studying Tibetan Buddhism in 2005. She is an accredited 16 Guidelines Level 1 & 2 and Unlocking Your Potential Facilitator\, and an Empathy Circle Facilitator. \n \nRuth was a Paramedic in the USA\, along with being an instructor/teacher/coach of Swimming\, Latin American Dance\, Radio Astronomy\, Gliding\, and Reiki. Based in the UK\, Ruth is an accredited 16G Level 1 Facilitator and an Empathy Circle Facilitator.
URL:https://compassionandwisdom.org/event/16g-l1-building-inner-strength-2/
LOCATION:Online
ATTACH;FMTTYPE=image/jpeg:https://compassionandwisdom.org/wp-content/uploads/2024/06/16G-L1-Building-Inner-Strength-FDCW.jpg
ORGANIZER;CN="Janna Weiss":MAILTO:thangkha123@gmail.com
END:VEVENT
END:VCALENDAR