BEGIN:VCALENDAR
VERSION:2.0
PRODID:-//Foundation for Developing Compassion and Wisdom - ECPv6.15.20//NONSGML v1.0//EN
CALSCALE:GREGORIAN
METHOD:PUBLISH
X-WR-CALNAME:Foundation for Developing Compassion and Wisdom
X-ORIGINAL-URL:https://compassionandwisdom.org
X-WR-CALDESC:Events for Foundation for Developing Compassion and Wisdom
REFRESH-INTERVAL;VALUE=DURATION:PT1H
X-Robots-Tag:noindex
X-PUBLISHED-TTL:PT1H
BEGIN:VTIMEZONE
TZID:Europe/Rome
BEGIN:DAYLIGHT
TZOFFSETFROM:+0100
TZOFFSETTO:+0200
TZNAME:CEST
DTSTART:20230326T010000
END:DAYLIGHT
BEGIN:STANDARD
TZOFFSETFROM:+0200
TZOFFSETTO:+0100
TZNAME:CET
DTSTART:20231029T010000
END:STANDARD
BEGIN:DAYLIGHT
TZOFFSETFROM:+0100
TZOFFSETTO:+0200
TZNAME:CEST
DTSTART:20240331T010000
END:DAYLIGHT
BEGIN:STANDARD
TZOFFSETFROM:+0200
TZOFFSETTO:+0100
TZNAME:CET
DTSTART:20241027T010000
END:STANDARD
BEGIN:DAYLIGHT
TZOFFSETFROM:+0100
TZOFFSETTO:+0200
TZNAME:CEST
DTSTART:20250330T010000
END:DAYLIGHT
BEGIN:STANDARD
TZOFFSETFROM:+0200
TZOFFSETTO:+0100
TZNAME:CET
DTSTART:20251026T010000
END:STANDARD
END:VTIMEZONE
BEGIN:VEVENT
DTSTART;TZID=Europe/Rome:20241011T180000
DTEND;TZID=Europe/Rome:20241013T130000
DTSTAMP:20260425T121601
CREATED:20241003T155356Z
LAST-MODIFIED:20241003T155356Z
UID:10000176-1728669600-1728824400@compassionandwisdom.org
SUMMARY:16G L1 Building Inner Strength | Rifugio Novezzina - in Italian
DESCRIPTION:About this course\nIf you’re seeking practical tools to bring about positive change in your life\, this experiential course is for you. \nYou’ll explore the 16 Guidelines framework to enhance your capacity for personal reflection\, resulting in a greater sense of well-being\, confidence\, purpose and emotional resilience. \nDrawing on proven techniques from positive psychology\, neuroscience and centuries-old Eastern philosophy\, you’ll develop an ethical\, holistic approach to self-improvement and cultural change. \nWhat you’ll learn:\n\nEthical practices to all aspects of life by using a set of practical and transformative tools.\nIdentify your own practice of mindful qualities in your personal and professional practices.\nIntegrate and apply mindfulness to the four wisdom themes of the 16 G: Mindful thought; mindful actions; mindful relationships; and mindful purpose and livelihood\n\nDates:\nThis course is delivered in person from Friday 11th October at 18:00 to Sunday 13th October at 13:00. \nLocation:\nRifugio Novezzina (All times displayed are local) \nBookings and Cost:\nThe cost for the course is €170\, which includes meals and accommodation. For more information and to register\, please contact:\nEmail: rifugio@ilpontecooperativasociale.it\nPhone: +39 34 70 97 15 66 \nFacilitators:\nMaria Luisa Costantino is an Italy-based educator and clinical pedagogist with over 30 years of experience working with disadvantaged children. She integrates scientific research with contemplative practices inspired by Buddhism\, and is an accredited 16 Guidelines (16G) Level 1 and 2 facilitator. Maria conducts workshops in Italian and has collaborated with the Karuna Home in India\, supporting individuals with disabilities. Her approach blends clinical pedagogy with mindfulness\, empowering individuals to lead their own growth. \n Sabrina De Chirico is an experienced facilitator based in Italy\, specialising in leadership\, youth work\, community building\, and education. She is accredited in 16 Guidelines (16G) Level 1 and 2\, 16G for children and teens\, Building Balanced Empathy\, and Unlocking Your Potential. Sabrina delivers workshops in both English and Italian. Her work is driven by a deep commitment to helping others lead more serene lives\, and she integrates mindfulness into her daily practice to support personal and collective growth.
URL:https://compassionandwisdom.org/event/16g-l1-rifugio-novezzina-in-italian/
LOCATION:Rifugio Novezzina\, Località Novezzina\, Ferrara di Monte Baldo\, Veneto\, 37020\, Italy
ATTACH;FMTTYPE=image/jpeg:https://compassionandwisdom.org/wp-content/uploads/2024/10/16-Guidelines-Level-1-Course-in-Italian.jpg
ORGANIZER;CN="Il Ponte Cooperativa Sociale":MAILTO:info@ilpontecooperativasociale.it
END:VEVENT
END:VCALENDAR